BEGIN:VCALENDAR
VERSION:2.0
PRODID:-//Woodland Wonders Forest School - ECPv6.7.0//NONSGML v1.0//EN
CALSCALE:GREGORIAN
METHOD:PUBLISH
X-WR-CALNAME:Woodland Wonders Forest School
X-ORIGINAL-URL:https://www.woodlandwondersforestschool.co.uk
X-WR-CALDESC:Events for Woodland Wonders Forest School
REFRESH-INTERVAL;VALUE=DURATION:PT1H
X-Robots-Tag:noindex
X-PUBLISHED-TTL:PT1H
BEGIN:VTIMEZONE
TZID:Europe/London
BEGIN:DAYLIGHT
TZOFFSETFROM:+0000
TZOFFSETTO:+0100
TZNAME:BST
DTSTART:20220327T010000
END:DAYLIGHT
BEGIN:STANDARD
TZOFFSETFROM:+0100
TZOFFSETTO:+0000
TZNAME:GMT
DTSTART:20221030T010000
END:STANDARD
END:VTIMEZONE
BEGIN:VEVENT
DTSTART;TZID=Europe/London:20221221T093000
DTEND;TZID=Europe/London:20221221T113000
DTSTAMP:20260421T202954
CREATED:20221021T105616Z
LAST-MODIFIED:20221021T105735Z
UID:1754-1671615000-1671622200@www.woodlandwondersforestschool.co.uk
SUMMARY:Christmas With Stickman Parent and Child Session
DESCRIPTION:Age range: A parent and child morning for children aged 18m to 8/9 years old. Parents and siblings under 18m attend for free. \nThe fun to be had…!  Stickman helps Santa deliver the toys to fast asleep girls and fast asleep boys……Come and join us for some festive fun at “Christmas With Stickman”…We have lots of creative and Christmassy natural crafts and Stickman themed fun for all the family to enjoy \n\nFind a stick you like and make your very own Stickman to take home and have your own fun adventures with.\nWhittle a stick to toast marshmallows over the fire\nBash some coloured chalk onto fabric to make a flag\nSaw a piece of wood to make a Father Christmas log character\n\nPlus there will also be time to play and explore\, bug hunting\, mud kitchen\, swing and the hammock. Plus meet the animals that live on the farm. \nSquash and hot chocolate will be available for the children throughout the morning\, with tea and coffee for the adults. Please bring your own cups. \nPlease contact us with any questions to woodlandwondersforestschool@gmail.com \nPrice: £16.00 per child\, includes marshmallows\, equipment to use\, all craft items made and refreshments for children and adults.
URL:https://www.woodlandwondersforestschool.co.uk/event/christmas-with-stickman-parent-and-child-session-3/
LOCATION:Applefield Smallholding\, Applefield Smallholding\, Sidlesham\, West Sussex\, PO20 7LW\, United Kingdom
CATEGORIES:All events,Family days,Holiday sessions,Holiday Sessions,Parent and child session
ATTACH;FMTTYPE=image/jpeg:https://www.woodlandwondersforestschool.co.uk/wp-content/uploads/2021/12/stickman-picture.jpg
END:VEVENT
BEGIN:VEVENT
DTSTART;TZID=Europe/London:20221221T130000
DTEND;TZID=Europe/London:20221221T150000
DTSTAMP:20260421T202954
CREATED:20221128T180655Z
LAST-MODIFIED:20221128T180655Z
UID:1758-1671627600-1671634800@www.woodlandwondersforestschool.co.uk
SUMMARY:Christmas With Stickman Parent and Child Session
DESCRIPTION:Age range: A parent and child morning for children aged 18m to 8/9 years old. Parents and siblings under 18m attend for free. \nThe fun to be had…!  Stickman helps Santa deliver the toys to fast asleep girls and fast asleep boys……Come and join us for some festive fun at “Christmas With Stickman”…We have lots of creative and Christmassy natural crafts and Stickman themed fun for all the family to enjoy \n\nFind a stick you like and make your very own Stickman to take home and have your own fun adventures with.\nWhittle a stick to toast marshmallows over the fire\nBash some coloured chalk onto fabric to make a flag\nSaw a piece of wood to make a Father Christmas log character\n\nPlus there will also be time to play and explore\, bug hunting\, mud kitchen\, swing and the hammock. Plus meet the animals that live on the farm. \nSquash and hot chocolate will be available for the children throughout the morning\, with tea and coffee for the adults. Please bring your own cups. \nPlease contact us with any questions to woodlandwondersforestschool@gmail.com \nPrice: £16.00 per child\, includes marshmallows\, equipment to use\, all craft items made and refreshments for children and adults.
URL:https://www.woodlandwondersforestschool.co.uk/event/christmas-with-stickman-parent-and-child-session-4/
LOCATION:Applefield Smallholding\, Applefield Smallholding\, Sidlesham\, West Sussex\, PO20 7LW\, United Kingdom
CATEGORIES:All events,Family days,Holiday sessions,Holiday Sessions,Parent and child session
ATTACH;FMTTYPE=image/jpeg:https://www.woodlandwondersforestschool.co.uk/wp-content/uploads/2021/12/stickman-picture.jpg
END:VEVENT
END:VCALENDAR