BEGIN:VCALENDAR
VERSION:2.0
PRODID:-//Woodland Wonders Forest School - ECPv6.7.0//NONSGML v1.0//EN
CALSCALE:GREGORIAN
METHOD:PUBLISH
X-ORIGINAL-URL:https://www.woodlandwondersforestschool.co.uk
X-WR-CALDESC:Events for Woodland Wonders Forest School
REFRESH-INTERVAL;VALUE=DURATION:PT1H
X-Robots-Tag:noindex
X-PUBLISHED-TTL:PT1H
BEGIN:VTIMEZONE
TZID:Europe/London
BEGIN:DAYLIGHT
TZOFFSETFROM:+0000
TZOFFSETTO:+0100
TZNAME:BST
DTSTART:20220327T010000
END:DAYLIGHT
BEGIN:STANDARD
TZOFFSETFROM:+0100
TZOFFSETTO:+0000
TZNAME:GMT
DTSTART:20221030T010000
END:STANDARD
END:VTIMEZONE
BEGIN:VEVENT
DTSTART;TZID=Europe/London:20221025T100000
DTEND;TZID=Europe/London:20221025T150000
DTSTAMP:20260423T155443
CREATED:20220918T143323Z
LAST-MODIFIED:20220918T143323Z
UID:1705-1666692000-1666710000@www.woodlandwondersforestschool.co.uk
SUMMARY:"Pumpkin Fest" - Half Term Drop Off Farm/Forest School Day 5yrs-12yrs
DESCRIPTION:Date: Tuesday 25th October 2021\, 10 – 3pm \nAge range: A drop off day for children aged 5 to 12 years for unaccompanied children. \nWhat to expect… Join us for a fun packed Halloween themed forest school/farm session\, with lots of engaging activities and games to keep the children entertained…. \n\nPumpkin carving\nSlime making and gooey science fun activities\nColoured fire lighting\nUsing tools to whittle sticks and decorate to make Halloween themed woodcrafts such as wands and broomsticks\nSnack cooked over the fire\nHalloween themed games\nMeeting and greeting the farm animals\nPlaying\, exploring and making new friends\nToasting marshmallows\nAnd lots of fun too!!\n\nPrice: £30.00 per child\, includes all the woodcrafts and novelty craft items made to take home\, hot chocolate or squash\, marshmallows and cooking activity. \nBooking link: https://www.eventbrite.co.uk/e/421969230327
URL:https://www.woodlandwondersforestschool.co.uk/event/pumpkin-fest-half-term-drop-off-farm-forest-school-day-5yrs-12yrs/
LOCATION:Applefield Smallholding\, Applefield Smallholding\, Sidlesham\, West Sussex\, PO20 7LW\, United Kingdom
CATEGORIES:All events,Family days,Holiday sessions,Holiday Sessions
ATTACH;FMTTYPE=image/jpeg:https://www.woodlandwondersforestschool.co.uk/wp-content/uploads/2022/09/Halloween-pumpkin-carving.jpg
END:VEVENT
END:VCALENDAR