BEGIN:VCALENDAR
VERSION:2.0
PRODID:-//Woodland Wonders Forest School - ECPv6.7.0//NONSGML v1.0//EN
CALSCALE:GREGORIAN
METHOD:PUBLISH
X-WR-CALNAME:Woodland Wonders Forest School
X-ORIGINAL-URL:https://www.woodlandwondersforestschool.co.uk
X-WR-CALDESC:Events for Woodland Wonders Forest School
REFRESH-INTERVAL;VALUE=DURATION:PT1H
X-Robots-Tag:noindex
X-PUBLISHED-TTL:PT1H
BEGIN:VTIMEZONE
TZID:Europe/London
BEGIN:DAYLIGHT
TZOFFSETFROM:+0000
TZOFFSETTO:+0100
TZNAME:BST
DTSTART:20230326T010000
END:DAYLIGHT
BEGIN:STANDARD
TZOFFSETFROM:+0100
TZOFFSETTO:+0000
TZNAME:GMT
DTSTART:20231029T010000
END:STANDARD
END:VTIMEZONE
BEGIN:VEVENT
DTSTART;TZID=Europe/London:20230305T100000
DTEND;TZID=Europe/London:20230305T113000
DTSTAMP:20260421T135619
CREATED:20230221T124847Z
LAST-MODIFIED:20230221T124847Z
UID:1827-1678010400-1678015800@www.woodlandwondersforestschool.co.uk
SUMMARY:Dangerous Dads - Hotham Park\, Bognor Regis
DESCRIPTION:Date: Sunday 5th March\, 10-11.30am \nLocation: The Discovery Garden\, Hotham Park\, Bognor Regis\, West Sussex \nWho is this for: This session is for Dads\, Grandads\, Uncles and male carers and their children of all ages. \nThe fun to be had… Join us at Dangerous Dads for a morning of forest school activities set in the Discovery Garden in Hotham Park\, Bognor Regis. We’ve designed some fun activities perfect for dads and male carers to enjoy with their children. At Dangerous Dads our aim is to provide an opportunity for our families to spend some quality time together and make some fun and long lasting memories together\, and hopefully learn a new skill too. \nOur mornings are relaxed and informal\, and children can participate in the activities that they choose. The following are the types of activities that we offer over the course of these sessions. \n\nFire lighting\nWhittling sticks\nToasting marshmallows\nCampfire snack cooking\nSawing activities\nThemed sessions\nBug hunting\nMud kitchen play\nHammock and swing\nCrafts\nExploring and play\n\nWe hope that you can make it! \nPrice: Child tickets £8.50. Children under 18 months attend for free when accompanied by a full paying child. Adults attend for free. \nBooking link: https://www.eventbrite.co.uk/e/556531991167
URL:https://www.woodlandwondersforestschool.co.uk/event/dangerous-dads-hotham-park-bognor-regis/
LOCATION:The Discovery Garden\, Hotham Park\, Bognor Regis\, West Sussex\, United Kingdom
CATEGORIES:All events,Dangerous Dads,Family days,Parent and child session
ATTACH;FMTTYPE=image/jpeg:https://www.woodlandwondersforestschool.co.uk/wp-content/uploads/2021/10/DSC_0030.jpg
END:VEVENT
END:VCALENDAR