BEGIN:VCALENDAR
VERSION:2.0
PRODID:-//Woodland Wonders Forest School - ECPv6.7.0//NONSGML v1.0//EN
CALSCALE:GREGORIAN
METHOD:PUBLISH
X-ORIGINAL-URL:https://www.woodlandwondersforestschool.co.uk
X-WR-CALDESC:Events for Woodland Wonders Forest School
REFRESH-INTERVAL;VALUE=DURATION:PT1H
X-Robots-Tag:noindex
X-PUBLISHED-TTL:PT1H
BEGIN:VTIMEZONE
TZID:Europe/London
BEGIN:DAYLIGHT
TZOFFSETFROM:+0000
TZOFFSETTO:+0100
TZNAME:BST
DTSTART:20230326T010000
END:DAYLIGHT
BEGIN:STANDARD
TZOFFSETFROM:+0100
TZOFFSETTO:+0000
TZNAME:GMT
DTSTART:20231029T010000
END:STANDARD
END:VTIMEZONE
BEGIN:VEVENT
DTSTART;TZID=Europe/London:20230213T100000
DTEND;TZID=Europe/London:20230213T113000
DTSTAMP:20260421T152703
CREATED:20230128T130547Z
LAST-MODIFIED:20230128T130547Z
UID:1768-1676282400-1676287800@www.woodlandwondersforestschool.co.uk
SUMMARY:Mr Wolf's Pancakes Parent & Child Session\, 18m-8yrs
DESCRIPTION:Come and join us celebrating pancake day at Mr Wolf’s pancakes parent and child morning.  \nSome of the fun to be had….? \n\nBefore we can cook our pancakes we will need to make our campfire\, learn how to use a flint and steel to create our campfire to cook the pancakes over.\nMix together the ingredients to make pancakes\, to be cooked over the fire\, top with honey or jam and enjoy warm around the fire circle…yum yum! There will be pancakes for grown ups too!\nSawing activity\nMake a Mr Wolf face mask.\nHave a play in the mud kitchen and make your own muddy pancakes!\nPancake tossing game.\n\nThen… enjoy a hot chocolate whilst listening to Mr Wolf’s Pancakes story. \nPrice: Child tickets £14.00 includes all craft items to take home\, activities\, hot chocolate/squash and pancakes. \nChildren under 18 months attend for free when accompanied by a full paying child. \nBooking link: https://www.eventbrite.co.uk/e/526033549507
URL:https://www.woodlandwondersforestschool.co.uk/event/mr-wolfs-pancakes-parent-child-session-18m-8yrs/
LOCATION:The Wild Space\, Graylingwell Park\, Chichester\, West Sussex\, PO19 6DA
CATEGORIES:All events,Family days,Holiday sessions,Holiday Sessions,Parent and child session
ATTACH;FMTTYPE=image/jpeg:https://www.woodlandwondersforestschool.co.uk/wp-content/uploads/2023/01/mr-wolfs-pancakes-2.jpg
END:VEVENT
BEGIN:VEVENT
DTSTART;TZID=Europe/London:20230214T100000
DTEND;TZID=Europe/London:20230214T150000
DTSTAMP:20260421T152703
CREATED:20230128T130945Z
LAST-MODIFIED:20230128T130945Z
UID:1771-1676368800-1676386800@www.woodlandwondersforestschool.co.uk
SUMMARY:Half Term Holiday Drop Off Farm/Forest School Day 5yrs-11yrs
DESCRIPTION:Join us for a fun packed forest school and farm session\, with lots of engaging activities and games to keep the children entertained…. \n\nMeeting\, greeting and feeding the farm animals that live at Applefield\nExploring the farm\nFire lighting\nUsing hand tools\nCrafts\nCook a snack over the camp fire\nPlaying\, exploring and making new friends\nAnd lots of fun too!!\n\nPrice: £30.00 per child\, includes all the woodcrafts and novelty craft items made to take home\, hot chocolate or squash\, and snack cooking activity. \nBooking link: https://www.eventbrite.co.uk/e/525994332207
URL:https://www.woodlandwondersforestschool.co.uk/event/half-term-holiday-drop-off-farm-forest-school-day-5yrs-11yrs/
LOCATION:Applefield Smallholding\, Applefield Smallholding\, Sidlesham\, West Sussex\, PO20 7LW\, United Kingdom
CATEGORIES:All events,Family days,Holiday sessions,Holiday Sessions
ATTACH;FMTTYPE=image/jpeg:https://www.woodlandwondersforestschool.co.uk/wp-content/uploads/2021/12/230864884_4157560144362851_4361916989590738651_n.jpg
END:VEVENT
BEGIN:VEVENT
DTSTART;TZID=Europe/London:20230219T100000
DTEND;TZID=Europe/London:20230219T113000
DTSTAMP:20260421T152703
CREATED:20230128T131426Z
LAST-MODIFIED:20230128T131426Z
UID:1774-1676800800-1676806200@www.woodlandwondersforestschool.co.uk
SUMMARY:Dangerous Dads - Graylingwell Park
DESCRIPTION:Date: Sunday 19th February\, 10-11.30am \nLocation: The Wild Space\, Graylingwell Park\, Chichester \nWho is this for: \nThis session is for Dads\, Grandads\, Uncles and male carers and their children of all ages. \nThe fun to be had… \nJoin us at Dangerous Dads for a morning of forest school activities set in the Wild Space forest school area within the Graylingwell Estate. We’ve designed some fun activities perfect for dads and male carers to enjoy with their children. At Dangerous Dads our aim is to provide an opportunity for our families to spend some quality time together and make some fun and long lasting memories together\, and hopefully learn a new skill too. \nOur mornings are relaxed and informal and children can participate in the activities that they choose. We will be offering fire lighting activity\, whittling sticks to toast marshmallows over the fire\, and a sawing activity. Bug hunting\, a mud kitchen to make some mud pies\, the hammock to relax in\, and not forgetting some exploring and playing too. \nWe hope that you can make it! \nPrice: Child tickets £8.50 per child. Children under 18 months attend for free when accompanied by a full paying child. Adults attend for free. \nBooking link: https://www.eventbrite.co.uk/e/526813030957
URL:https://www.woodlandwondersforestschool.co.uk/event/dangerous-dads-graylingwell-park/
LOCATION:The Wild Space\, Graylingwell Park\, Chichester\, West Sussex\, PO19 6DA
CATEGORIES:All events,Dangerous Dads,Family days,Parent and child session
ATTACH;FMTTYPE=image/jpeg:https://www.woodlandwondersforestschool.co.uk/wp-content/uploads/2021/10/DSC_0030.jpg
END:VEVENT
BEGIN:VEVENT
DTSTART;TZID=Europe/London:20230223T130000
DTEND;TZID=Europe/London:20230223T150000
DTSTAMP:20260421T152703
CREATED:20230128T180146Z
LAST-MODIFIED:20230213T161705Z
UID:1785-1677157200-1677164400@www.woodlandwondersforestschool.co.uk
SUMMARY:The Wild Space Home Ed Family Group Term-Time (6 week term)
DESCRIPTION:Dates: 6 week programme\, from the Thursday 23rd February until 30th March 2023 inclusive\, for 1.5 hours between 1pm – 2.30pm. \nAge range: Home educated children aged 4 to 11yrs and their parents or carers. We also run Wildings\, a parent and child group in the morning for children under 5 yrs. \nWhat is the Wild Space? \nThe Wild Space is a family orientated group for home educated children aged 4 to 11yrs and their parents or carers\, offering fun\, explorative and skill developing sessions. Children can choose to learn new skills or develop existing ones. Tool work\, fire lighting\, campfire cooking\, shelter building and bushcraft are on the agenda\, or maybe sometime to explore\, make new friends or just relax and connect with themselves and be at one with nature! Our sessions are inspired by the children for the children\, using nature at its heart. With a relaxed learner led approach children can make choices about their time with us\, their skill development\, and learning opportunities following their own learning style. \nOtto the therapy dog will be supporting the sessions and is looking forward to making new hooman friends and helping the children settle in. He says his favourite things are playing\, exploring and eating snacks\, preferably not his own! \nThese sessions are also a great opportunity for parents to come together\, you can decide how involved you would like to be\, participate in the activities offered or have a chat and coffee with like minded individuals. These sessions are as much for the adult as they are for the children (An adult is required to stay for the duration of the session). \nSessions are run by a level 3 forest school leader\, forest school assistant. Fully DBS certificated\, first aid and safeguarding trained\, and Otto the therapy dog\, who is has heaps of enthusiasm and love to give! \nPrice: Block booking is required at £48.00 for first child and £39.00 for siblings for the complete 6 week term. \nOne off session – £10.00 per child \nFor more information or to book a place please use the link: https://www.eventbrite.co.uk/e/527221913937
URL:https://www.woodlandwondersforestschool.co.uk/event/the-wild-space-home-ed-family-group-term-time-6-week-term/
LOCATION:The Wild Space\, Graylingwell Park\, Chichester\, West Sussex\, PO19 6DA
CATEGORIES:All events,Family days,Home Ed,Home Ed group,Parent and child session
ATTACH;FMTTYPE=image/jpeg:https://www.woodlandwondersforestschool.co.uk/wp-content/uploads/2022/06/231289275_4157561254362740_6366758454479364620_n.jpg
END:VEVENT
END:VCALENDAR