BEGIN:VCALENDAR
VERSION:2.0
PRODID:-//Woodland Wonders Forest School - ECPv6.7.0//NONSGML v1.0//EN
CALSCALE:GREGORIAN
METHOD:PUBLISH
X-WR-CALNAME:Woodland Wonders Forest School
X-ORIGINAL-URL:https://www.woodlandwondersforestschool.co.uk
X-WR-CALDESC:Events for Woodland Wonders Forest School
REFRESH-INTERVAL;VALUE=DURATION:PT1H
X-Robots-Tag:noindex
X-PUBLISHED-TTL:PT1H
BEGIN:VTIMEZONE
TZID:Europe/London
BEGIN:DAYLIGHT
TZOFFSETFROM:+0000
TZOFFSETTO:+0100
TZNAME:BST
DTSTART:20220327T010000
END:DAYLIGHT
BEGIN:STANDARD
TZOFFSETFROM:+0100
TZOFFSETTO:+0000
TZNAME:GMT
DTSTART:20221030T010000
END:STANDARD
END:VTIMEZONE
BEGIN:VEVENT
DTSTART;TZID=Europe/London:20221024T093000
DTEND;TZID=Europe/London:20221024T113000
DTSTAMP:20260421T213852
CREATED:20220918T142803Z
LAST-MODIFIED:20220918T142803Z
UID:1700-1666603800-1666611000@www.woodlandwondersforestschool.co.uk
SUMMARY:"Pumpkin Soup" - Half Term Parent and Child Session 18m-8yrs
DESCRIPTION:Sessions: Monday 24th October\, 9.30am – 11.30am or 1-3pm \nLocation: Applefield Smallholding\, Chalk Lane\, Sidlesham\, Chichester\, PO20 7LW \nAge range and group size: Parent/carer and child session for ages 18m to 8 years. Parents/carers and children aged under 18 months attend for free when accompanied by a paying sibling. \nThe fun to be had….? \nWhat’s been cooking? Pumpkin soup\, the best you’ve ever tasted! Join us for a fun packed session based around the book Pumpkin Soup by Helen Cooper . \nHere’s what we will be doing: \n\nA bagpiping cat\, a squirrel with a banjo and a singing duck! Lets make our own musical instruments too.. what will yours sound like?\nGet creative and make a no-carve pumpkin to take home.\nPeel and chop some vegetable to make our own vegetable soup to cook over our campfire..yum!\nMeet and greet the different animals that live on our farm.\nMake an animal character mask to wear.\nToast a marshmallow and enjoy a hot chocolate around the fire circle.\n\nWe will also…. Spend some time exploring and playing\, bug hunting\, relaxing in the hammock or have a go on the nest swing and make a mud pie or two in the mud kitchen. \nThen… Relax around the fire circle and try some of our delicious home made pumpkin soup. There will also be complimentary tea or coffee for the adults. \nFinally… Storytime listening to the Pumpkin story book\, before it’s time to go home all worn out! \nPrice: Child tickets 18m upwards £16.00 includes all craft items to take home\, a no carve pumpkin\, all activities and refreshments\, pumpkin soup and marshmallows. \nChildren under 18 months attend for free when accompanied by a full paying child. Parents\, carers free (no need to book adult/under 18m-sibling tickets). \nBooking link: https://www.eventbrite.co.uk/e/421831739087
URL:https://www.woodlandwondersforestschool.co.uk/event/pumpkin-soup-half-term-parent-and-child-session-18m-8yrs/
LOCATION:Applefield Smallholding\, Applefield Smallholding\, Sidlesham\, West Sussex\, PO20 7LW\, United Kingdom
CATEGORIES:All events,Family days,Holiday sessions,Holiday Sessions,Parent and child session
ATTACH;FMTTYPE=image/jpeg:https://www.woodlandwondersforestschool.co.uk/wp-content/uploads/2022/09/Pumpkin-Soup-The-Best-You-Ever-Tasted-picture.jpg
END:VEVENT
BEGIN:VEVENT
DTSTART;TZID=Europe/London:20221024T130000
DTEND;TZID=Europe/London:20221024T150000
DTSTAMP:20260421T213852
CREATED:20220918T142836Z
LAST-MODIFIED:20220918T142836Z
UID:1703-1666616400-1666623600@www.woodlandwondersforestschool.co.uk
SUMMARY:"Pumpkin Soup" - Half Term Parent and Child Session 18m-8yrs
DESCRIPTION:Sessions: Monday 24th October\, 9.30am – 11.30am or 1-3pm \nLocation: Applefield Smallholding\, Chalk Lane\, Sidlesham\, Chichester\, PO20 7LW \nAge range and group size: Parent/carer and child session for ages 18m to 8 years. Parents/carers and children aged under 18 months attend for free when accompanied by a paying sibling. \nThe fun to be had….? \nWhat’s been cooking? Pumpkin soup\, the best you’ve ever tasted! Join us for a fun packed session based around the book Pumpkin Soup by Helen Cooper . \nHere’s what we will be doing: \n\nA bagpiping cat\, a squirrel with a banjo and a singing duck! Lets make our own musical instruments too.. what will yours sound like?\nGet creative and make a no-carve pumpkin to take home.\nPeel and chop some vegetable to make our own vegetable soup to cook over our campfire..yum!\nMeet and greet the different animals that live on our farm.\nMake an animal character mask to wear.\nToast a marshmallow and enjoy a hot chocolate around the fire circle.\n\nWe will also…. Spend some time exploring and playing\, bug hunting\, relaxing in the hammock or have a go on the nest swing and make a mud pie or two in the mud kitchen. \nThen… Relax around the fire circle and try some of our delicious home made pumpkin soup. There will also be complimentary tea or coffee for the adults. \nFinally… Storytime listening to the Pumpkin story book\, before it’s time to go home all worn out! \nPrice: Child tickets 18m upwards £16.00 includes all craft items to take home\, a no carve pumpkin\, all activities and refreshments\, pumpkin soup and marshmallows. \nChildren under 18 months attend for free when accompanied by a full paying child. Parents\, carers free (no need to book adult/under 18m-sibling tickets). \nBooking link: https://www.eventbrite.co.uk/e/421831739087
URL:https://www.woodlandwondersforestschool.co.uk/event/pumpkin-soup-half-term-parent-and-child-session-18m-8yrs-2/
LOCATION:Applefield Smallholding\, Applefield Smallholding\, Sidlesham\, West Sussex\, PO20 7LW\, United Kingdom
CATEGORIES:All events,Family days,Holiday Sessions,Holiday sessions,Parent and child session
ATTACH;FMTTYPE=image/jpeg:https://www.woodlandwondersforestschool.co.uk/wp-content/uploads/2022/09/Pumpkin-Soup-The-Best-You-Ever-Tasted-picture.jpg
END:VEVENT
BEGIN:VEVENT
DTSTART;TZID=Europe/London:20221025T100000
DTEND;TZID=Europe/London:20221025T150000
DTSTAMP:20260421T213852
CREATED:20220918T143323Z
LAST-MODIFIED:20220918T143323Z
UID:1705-1666692000-1666710000@www.woodlandwondersforestschool.co.uk
SUMMARY:"Pumpkin Fest" - Half Term Drop Off Farm/Forest School Day 5yrs-12yrs
DESCRIPTION:Date: Tuesday 25th October 2021\, 10 – 3pm \nAge range: A drop off day for children aged 5 to 12 years for unaccompanied children. \nWhat to expect… Join us for a fun packed Halloween themed forest school/farm session\, with lots of engaging activities and games to keep the children entertained…. \n\nPumpkin carving\nSlime making and gooey science fun activities\nColoured fire lighting\nUsing tools to whittle sticks and decorate to make Halloween themed woodcrafts such as wands and broomsticks\nSnack cooked over the fire\nHalloween themed games\nMeeting and greeting the farm animals\nPlaying\, exploring and making new friends\nToasting marshmallows\nAnd lots of fun too!!\n\nPrice: £30.00 per child\, includes all the woodcrafts and novelty craft items made to take home\, hot chocolate or squash\, marshmallows and cooking activity. \nBooking link: https://www.eventbrite.co.uk/e/421969230327
URL:https://www.woodlandwondersforestschool.co.uk/event/pumpkin-fest-half-term-drop-off-farm-forest-school-day-5yrs-12yrs/
LOCATION:Applefield Smallholding\, Applefield Smallholding\, Sidlesham\, West Sussex\, PO20 7LW\, United Kingdom
CATEGORIES:All events,Family days,Holiday sessions,Holiday Sessions
ATTACH;FMTTYPE=image/jpeg:https://www.woodlandwondersforestschool.co.uk/wp-content/uploads/2022/09/Halloween-pumpkin-carving.jpg
END:VEVENT
END:VCALENDAR